BEGIN:VCALENDAR
VERSION:2.0
PRODID:-//Friendship Circle of Los Angeles - ECPv6.15.20//NONSGML v1.0//EN
CALSCALE:GREGORIAN
METHOD:PUBLISH
X-ORIGINAL-URL:https://www.fcla.org
X-WR-CALDESC:Events for Friendship Circle of Los Angeles
REFRESH-INTERVAL;VALUE=DURATION:PT1H
X-Robots-Tag:noindex
X-PUBLISHED-TTL:PT1H
BEGIN:VTIMEZONE
TZID:America/Los_Angeles
BEGIN:DAYLIGHT
TZOFFSETFROM:-0800
TZOFFSETTO:-0700
TZNAME:PDT
DTSTART:20240310T100000
END:DAYLIGHT
BEGIN:STANDARD
TZOFFSETFROM:-0700
TZOFFSETTO:-0800
TZNAME:PST
DTSTART:20241103T090000
END:STANDARD
BEGIN:DAYLIGHT
TZOFFSETFROM:-0800
TZOFFSETTO:-0700
TZNAME:PDT
DTSTART:20250309T100000
END:DAYLIGHT
BEGIN:STANDARD
TZOFFSETFROM:-0700
TZOFFSETTO:-0800
TZNAME:PST
DTSTART:20251102T090000
END:STANDARD
BEGIN:DAYLIGHT
TZOFFSETFROM:-0800
TZOFFSETTO:-0700
TZNAME:PDT
DTSTART:20260308T100000
END:DAYLIGHT
BEGIN:STANDARD
TZOFFSETFROM:-0700
TZOFFSETTO:-0800
TZNAME:PST
DTSTART:20261101T090000
END:STANDARD
BEGIN:DAYLIGHT
TZOFFSETFROM:-0800
TZOFFSETTO:-0700
TZNAME:PDT
DTSTART:20270314T100000
END:DAYLIGHT
BEGIN:STANDARD
TZOFFSETFROM:-0700
TZOFFSETTO:-0800
TZNAME:PST
DTSTART:20271107T090000
END:STANDARD
END:VTIMEZONE
BEGIN:VEVENT
DTSTART;TZID=America/Los_Angeles:20260419T190000
DTEND;TZID=America/Los_Angeles:20260419T210000
DTSTAMP:20260425T062712
CREATED:20250703T195054Z
LAST-MODIFIED:20250703T195054Z
UID:10000417-1776625200-1776632400@www.fcla.org
SUMMARY:Volunteer workshop - Girls
DESCRIPTION:
URL:https://www.fcla.org/event/volunteer-workshop-girls/2026-04-19/
CATEGORIES:Volunteer Club
END:VEVENT
BEGIN:VEVENT
DTSTART;TZID=America/Los_Angeles:20260419T183000
DTEND;TZID=America/Los_Angeles:20260419T203000
DTSTAMP:20260425T062712
CREATED:20250703T194952Z
LAST-MODIFIED:20250703T194952Z
UID:10000407-1776623400-1776630600@www.fcla.org
SUMMARY:Volunteer workshop - Boys
DESCRIPTION:
URL:https://www.fcla.org/event/volunteer-workshop-boys/2026-04-19/
CATEGORIES:Volunteer Club
END:VEVENT
BEGIN:VEVENT
DTSTART;TZID=America/Los_Angeles:20260308T190000
DTEND;TZID=America/Los_Angeles:20260308T210000
DTSTAMP:20260425T062712
CREATED:20250703T195054Z
LAST-MODIFIED:20250703T195054Z
UID:10000416-1772996400-1773003600@www.fcla.org
SUMMARY:Volunteer workshop - Girls
DESCRIPTION:
URL:https://www.fcla.org/event/volunteer-workshop-girls/2026-03-08/
CATEGORIES:Volunteer Club
END:VEVENT
BEGIN:VEVENT
DTSTART;TZID=America/Los_Angeles:20260308T183000
DTEND;TZID=America/Los_Angeles:20260308T203000
DTSTAMP:20260425T062712
CREATED:20250703T194952Z
LAST-MODIFIED:20250703T194952Z
UID:10000406-1772994600-1773001800@www.fcla.org
SUMMARY:Volunteer workshop - Boys
DESCRIPTION:
URL:https://www.fcla.org/event/volunteer-workshop-boys/2026-03-08/
CATEGORIES:Volunteer Club
END:VEVENT
BEGIN:VEVENT
DTSTART;TZID=America/Los_Angeles:20251221T103000
DTEND;TZID=America/Los_Angeles:20251221T123000
DTSTAMP:20260425T062712
CREATED:20250703T194952Z
LAST-MODIFIED:20250703T194952Z
UID:10000405-1766313000-1766320200@www.fcla.org
SUMMARY:Volunteer workshop - Boys
DESCRIPTION:
URL:https://www.fcla.org/event/volunteer-workshop-boys/2025-12-21/
CATEGORIES:Volunteer Club
END:VEVENT
BEGIN:VEVENT
DTSTART;TZID=America/Los_Angeles:20251221T100000
DTEND;TZID=America/Los_Angeles:20251221T120000
DTSTAMP:20260425T062712
CREATED:20250703T195054Z
LAST-MODIFIED:20250703T195054Z
UID:10000415-1766311200-1766318400@www.fcla.org
SUMMARY:Volunteer workshop - Girls
DESCRIPTION:
URL:https://www.fcla.org/event/volunteer-workshop-girls/2025-12-21/
CATEGORIES:Volunteer Club
END:VEVENT
BEGIN:VEVENT
DTSTART;TZID=America/Los_Angeles:20250808T090000
DTEND;TZID=America/Los_Angeles:20250808T160000
DTSTAMP:20260425T062712
CREATED:20250703T161510Z
LAST-MODIFIED:20250703T192809Z
UID:10000312-1754643600-1754668800@www.fcla.org
SUMMARY:Summer Camp - Volunteer
DESCRIPTION:
URL:https://www.fcla.org/event/summer-camp-2025-volunteer/2025-08-08/
CATEGORIES:Volunteer Club
END:VEVENT
BEGIN:VEVENT
DTSTART;TZID=America/Los_Angeles:20250807T090000
DTEND;TZID=America/Los_Angeles:20250807T160000
DTSTAMP:20260425T062712
CREATED:20250703T161510Z
LAST-MODIFIED:20250703T192809Z
UID:10000311-1754557200-1754582400@www.fcla.org
SUMMARY:Summer Camp - Volunteer
DESCRIPTION:
URL:https://www.fcla.org/event/summer-camp-2025-volunteer/2025-08-07/
CATEGORIES:Volunteer Club
END:VEVENT
BEGIN:VEVENT
DTSTART;TZID=America/Los_Angeles:20250806T090000
DTEND;TZID=America/Los_Angeles:20250806T160000
DTSTAMP:20260425T062712
CREATED:20250703T161510Z
LAST-MODIFIED:20250703T192809Z
UID:10000310-1754470800-1754496000@www.fcla.org
SUMMARY:Summer Camp - Volunteer
DESCRIPTION:
URL:https://www.fcla.org/event/summer-camp-2025-volunteer/2025-08-06/
CATEGORIES:Volunteer Club
END:VEVENT
BEGIN:VEVENT
DTSTART;TZID=America/Los_Angeles:20250805T090000
DTEND;TZID=America/Los_Angeles:20250805T160000
DTSTAMP:20260425T062712
CREATED:20250703T161510Z
LAST-MODIFIED:20250703T192809Z
UID:10000309-1754384400-1754409600@www.fcla.org
SUMMARY:Summer Camp - Volunteer
DESCRIPTION:
URL:https://www.fcla.org/event/summer-camp-2025-volunteer/2025-08-05/
CATEGORIES:Volunteer Club
END:VEVENT
BEGIN:VEVENT
DTSTART;TZID=America/Los_Angeles:20250804T090000
DTEND;TZID=America/Los_Angeles:20250804T160000
DTSTAMP:20260425T062712
CREATED:20250703T161510Z
LAST-MODIFIED:20250703T192809Z
UID:10000308-1754298000-1754323200@www.fcla.org
SUMMARY:Summer Camp - Volunteer
DESCRIPTION:
URL:https://www.fcla.org/event/summer-camp-2025-volunteer/2025-08-04/
CATEGORIES:Volunteer Club
END:VEVENT
BEGIN:VEVENT
DTSTART;TZID=America/Los_Angeles:20250801T090000
DTEND;TZID=America/Los_Angeles:20250801T160000
DTSTAMP:20260425T062712
CREATED:20250703T161510Z
LAST-MODIFIED:20250703T192809Z
UID:10000307-1754038800-1754064000@www.fcla.org
SUMMARY:Summer Camp - Volunteer
DESCRIPTION:
URL:https://www.fcla.org/event/summer-camp-2025-volunteer/2025-08-01/
CATEGORIES:Volunteer Club
END:VEVENT
BEGIN:VEVENT
DTSTART;TZID=America/Los_Angeles:20250731T090000
DTEND;TZID=America/Los_Angeles:20250731T160000
DTSTAMP:20260425T062712
CREATED:20250703T161510Z
LAST-MODIFIED:20250703T192809Z
UID:10000306-1753952400-1753977600@www.fcla.org
SUMMARY:Summer Camp - Volunteer
DESCRIPTION:
URL:https://www.fcla.org/event/summer-camp-2025-volunteer/2025-07-31/
CATEGORIES:Volunteer Club
END:VEVENT
BEGIN:VEVENT
DTSTART;TZID=America/Los_Angeles:20250730T090000
DTEND;TZID=America/Los_Angeles:20250730T160000
DTSTAMP:20260425T062712
CREATED:20250703T161510Z
LAST-MODIFIED:20250703T192809Z
UID:10000305-1753866000-1753891200@www.fcla.org
SUMMARY:Summer Camp - Volunteer
DESCRIPTION:
URL:https://www.fcla.org/event/summer-camp-2025-volunteer/2025-07-30/
CATEGORIES:Volunteer Club
END:VEVENT
BEGIN:VEVENT
DTSTART;TZID=America/Los_Angeles:20250729T090000
DTEND;TZID=America/Los_Angeles:20250729T160000
DTSTAMP:20260425T062712
CREATED:20250703T161510Z
LAST-MODIFIED:20250703T192809Z
UID:10000304-1753779600-1753804800@www.fcla.org
SUMMARY:Summer Camp - Volunteer
DESCRIPTION:
URL:https://www.fcla.org/event/summer-camp-2025-volunteer/2025-07-29/
CATEGORIES:Volunteer Club
END:VEVENT
BEGIN:VEVENT
DTSTART;TZID=America/Los_Angeles:20250728T090000
DTEND;TZID=America/Los_Angeles:20250728T160000
DTSTAMP:20260425T062712
CREATED:20250703T161510Z
LAST-MODIFIED:20250703T192809Z
UID:10000303-1753693200-1753718400@www.fcla.org
SUMMARY:Summer Camp - Volunteer
DESCRIPTION:
URL:https://www.fcla.org/event/summer-camp-2025-volunteer/2025-07-28/
CATEGORIES:Volunteer Club
END:VEVENT
BEGIN:VEVENT
DTSTART;TZID=America/Los_Angeles:20250725T090000
DTEND;TZID=America/Los_Angeles:20250725T160000
DTSTAMP:20260425T062712
CREATED:20250703T161510Z
LAST-MODIFIED:20250703T192809Z
UID:10000302-1753434000-1753459200@www.fcla.org
SUMMARY:Summer Camp - Volunteer
DESCRIPTION:
URL:https://www.fcla.org/event/summer-camp-2025-volunteer/2025-07-25/
CATEGORIES:Volunteer Club
END:VEVENT
BEGIN:VEVENT
DTSTART;TZID=America/Los_Angeles:20250724T090000
DTEND;TZID=America/Los_Angeles:20250724T160000
DTSTAMP:20260425T062712
CREATED:20250703T161510Z
LAST-MODIFIED:20250703T192809Z
UID:10000301-1753347600-1753372800@www.fcla.org
SUMMARY:Summer Camp - Volunteer
DESCRIPTION:
URL:https://www.fcla.org/event/summer-camp-2025-volunteer/2025-07-24/
CATEGORIES:Volunteer Club
END:VEVENT
BEGIN:VEVENT
DTSTART;TZID=America/Los_Angeles:20250723T090000
DTEND;TZID=America/Los_Angeles:20250723T160000
DTSTAMP:20260425T062712
CREATED:20250703T161510Z
LAST-MODIFIED:20250703T192809Z
UID:10000300-1753261200-1753286400@www.fcla.org
SUMMARY:Summer Camp - Volunteer
DESCRIPTION:
URL:https://www.fcla.org/event/summer-camp-2025-volunteer/2025-07-23/
CATEGORIES:Volunteer Club
END:VEVENT
BEGIN:VEVENT
DTSTART;TZID=America/Los_Angeles:20250722T090000
DTEND;TZID=America/Los_Angeles:20250722T160000
DTSTAMP:20260425T062712
CREATED:20250703T161510Z
LAST-MODIFIED:20250703T192809Z
UID:10000299-1753174800-1753200000@www.fcla.org
SUMMARY:Summer Camp - Volunteer
DESCRIPTION:
URL:https://www.fcla.org/event/summer-camp-2025-volunteer/2025-07-22/
CATEGORIES:Volunteer Club
END:VEVENT
BEGIN:VEVENT
DTSTART;TZID=America/Los_Angeles:20250721T090000
DTEND;TZID=America/Los_Angeles:20250721T160000
DTSTAMP:20260425T062712
CREATED:20250703T161510Z
LAST-MODIFIED:20250703T192809Z
UID:10000172-1753088400-1753113600@www.fcla.org
SUMMARY:Summer Camp - Volunteer
DESCRIPTION:
URL:https://www.fcla.org/event/summer-camp-2025-volunteer/2025-07-21/
CATEGORIES:Volunteer Club
END:VEVENT
BEGIN:VEVENT
DTSTART;TZID=America/Los_Angeles:20250720T103000
DTEND;TZID=America/Los_Angeles:20250720T123000
DTSTAMP:20260425T062712
CREATED:20250703T194952Z
LAST-MODIFIED:20250703T194952Z
UID:10000404-1753007400-1753014600@www.fcla.org
SUMMARY:Volunteer workshop - Boys
DESCRIPTION:
URL:https://www.fcla.org/event/volunteer-workshop-boys/2025-07-20/
CATEGORIES:Volunteer Club
END:VEVENT
BEGIN:VEVENT
DTSTART;TZID=America/Los_Angeles:20250720T100000
DTEND;TZID=America/Los_Angeles:20250720T120000
DTSTAMP:20260425T062712
CREATED:20250703T195054Z
LAST-MODIFIED:20250703T195054Z
UID:10000414-1753005600-1753012800@www.fcla.org
SUMMARY:Volunteer workshop - Girls
DESCRIPTION:
URL:https://www.fcla.org/event/volunteer-workshop-girls/2025-07-20/
CATEGORIES:Volunteer Club
END:VEVENT
END:VCALENDAR