BEGIN:VCALENDAR
VERSION:2.0
PRODID:-//Friendship Circle of Los Angeles - ECPv6.15.20//NONSGML v1.0//EN
CALSCALE:GREGORIAN
METHOD:PUBLISH
X-WR-CALNAME:Friendship Circle of Los Angeles
X-ORIGINAL-URL:https://www.fcla.org
X-WR-CALDESC:Events for Friendship Circle of Los Angeles
REFRESH-INTERVAL;VALUE=DURATION:PT1H
X-Robots-Tag:noindex
X-PUBLISHED-TTL:PT1H
BEGIN:VTIMEZONE
TZID:America/Los_Angeles
BEGIN:DAYLIGHT
TZOFFSETFROM:-0800
TZOFFSETTO:-0700
TZNAME:PDT
DTSTART:20250309T100000
END:DAYLIGHT
BEGIN:STANDARD
TZOFFSETFROM:-0700
TZOFFSETTO:-0800
TZNAME:PST
DTSTART:20251102T090000
END:STANDARD
BEGIN:DAYLIGHT
TZOFFSETFROM:-0800
TZOFFSETTO:-0700
TZNAME:PDT
DTSTART:20260308T100000
END:DAYLIGHT
BEGIN:STANDARD
TZOFFSETFROM:-0700
TZOFFSETTO:-0800
TZNAME:PST
DTSTART:20261101T090000
END:STANDARD
BEGIN:DAYLIGHT
TZOFFSETFROM:-0800
TZOFFSETTO:-0700
TZNAME:PDT
DTSTART:20270314T100000
END:DAYLIGHT
BEGIN:STANDARD
TZOFFSETFROM:-0700
TZOFFSETTO:-0800
TZNAME:PST
DTSTART:20271107T090000
END:STANDARD
END:VTIMEZONE
BEGIN:VEVENT
DTSTART;TZID=America/Los_Angeles:20260503T090000
DTEND;TZID=America/Los_Angeles:20260503T131500
DTSTAMP:20260421T081627
CREATED:20250703T162339Z
LAST-MODIFIED:20250813T201722Z
UID:10000389-1777798800-1777814100@www.fcla.org
SUMMARY:Torah Social
DESCRIPTION:Kids: 9:15 AM- 1:00 PM; \nTTYA Girls: 9:45 AM- 1:00 PM; \nTTYA volunteers: 9:45 AM- 1:15 PM; \nVolunteer Shift 1- 9:00 AM- 11:15 am; \nVolunteer shift 2- 11:00 AM -1:15 pm
URL:https://www.fcla.org/event/torah-social-2509/2026-05-03/
END:VEVENT
BEGIN:VEVENT
DTSTART;TZID=America/Los_Angeles:20260505T173000
DTEND;TZID=America/Los_Angeles:20260505T193000
DTSTAMP:20260421T081627
CREATED:20250717T165258Z
LAST-MODIFIED:20250717T165258Z
UID:10000810-1778002200-1778009400@www.fcla.org
SUMMARY:Lag BaOmer Party
DESCRIPTION:
URL:https://www.fcla.org/event/lag-baomer-party-2/
END:VEVENT
BEGIN:VEVENT
DTSTART;TZID=America/Los_Angeles:20260506T183000
DTEND;TZID=America/Los_Angeles:20260506T200000
DTSTAMP:20260421T081627
CREATED:20250113T170842Z
LAST-MODIFIED:20250813T201400Z
UID:10000233-1778092200-1778097600@www.fcla.org
SUMMARY:Kicks n' Hoops
DESCRIPTION:
URL:https://www.fcla.org/event/kicks-n-hoops/2026-05-06/
END:VEVENT
BEGIN:VEVENT
DTSTART;TZID=America/Los_Angeles:20260507T190000
DTEND;TZID=America/Los_Angeles:20260507T200000
DTSTAMP:20260421T081627
CREATED:20250703T185134Z
LAST-MODIFIED:20250813T201106Z
UID:10000267-1778180400-1778184000@www.fcla.org
SUMMARY:MVP
DESCRIPTION:
URL:https://www.fcla.org/event/mvp/2026-05-07/
END:VEVENT
BEGIN:VEVENT
DTSTART;TZID=America/Los_Angeles:20260513T183000
DTEND;TZID=America/Los_Angeles:20260513T210000
DTSTAMP:20260421T081627
CREATED:20250703T195401Z
LAST-MODIFIED:20250703T195401Z
UID:10000421-1778697000-1778706000@www.fcla.org
SUMMARY:Garden Party
DESCRIPTION:
URL:https://www.fcla.org/event/garden-party-2/
END:VEVENT
BEGIN:VEVENT
DTSTART;TZID=America/Los_Angeles:20260517T090000
DTEND;TZID=America/Los_Angeles:20260517T131500
DTSTAMP:20260421T081627
CREATED:20250703T162339Z
LAST-MODIFIED:20250813T201722Z
UID:10000390-1779008400-1779023700@www.fcla.org
SUMMARY:Torah Social
DESCRIPTION:Kids: 9:15 AM- 1:00 PM; \nTTYA Girls: 9:45 AM- 1:00 PM; \nTTYA volunteers: 9:45 AM- 1:15 PM; \nVolunteer Shift 1- 9:00 AM- 11:15 am; \nVolunteer shift 2- 11:00 AM -1:15 pm
URL:https://www.fcla.org/event/torah-social-2509/2026-05-17/
END:VEVENT
BEGIN:VEVENT
DTSTART;TZID=America/Los_Angeles:20260517T091500
DTEND;TZID=America/Los_Angeles:20260517T110000
DTSTAMP:20260421T081627
CREATED:20250703T185134Z
LAST-MODIFIED:20250813T201106Z
UID:10000268-1779009300-1779015600@www.fcla.org
SUMMARY:MVP
DESCRIPTION:
URL:https://www.fcla.org/event/mvp/2026-05-17/
END:VEVENT
BEGIN:VEVENT
DTSTART;TZID=America/Los_Angeles:20260518T170000
DTEND;TZID=America/Los_Angeles:20260518T183000
DTSTAMP:20260421T081627
CREATED:20250703T162435Z
LAST-MODIFIED:20250813T200532Z
UID:10000252-1779123600-1779129000@www.fcla.org
SUMMARY:Girl's Scene
DESCRIPTION:
URL:https://www.fcla.org/event/girls-scene-2509/2026-05-18/
END:VEVENT
BEGIN:VEVENT
DTSTART;TZID=America/Los_Angeles:20260527T183000
DTEND;TZID=America/Los_Angeles:20260527T200000
DTSTAMP:20260421T081627
CREATED:20250113T170842Z
LAST-MODIFIED:20250813T201400Z
UID:10000234-1779906600-1779912000@www.fcla.org
SUMMARY:Kicks n' Hoops
DESCRIPTION:
URL:https://www.fcla.org/event/kicks-n-hoops/2026-05-27/
END:VEVENT
BEGIN:VEVENT
DTSTART;TZID=America/Los_Angeles:20260528T193000
DTEND;TZID=America/Los_Angeles:20260528T203000
DTSTAMP:20260421T081627
CREATED:20250703T163258Z
LAST-MODIFIED:20250813T195709Z
UID:10000828-1779996600-1780000200@www.fcla.org
SUMMARY:Sushi & Shiur
DESCRIPTION:
URL:https://www.fcla.org/event/sushi-shiur-5/2026-05-28/
END:VEVENT
BEGIN:VEVENT
DTSTART;TZID=America/Los_Angeles:20260531T090000
DTEND;TZID=America/Los_Angeles:20260531T131500
DTSTAMP:20260421T081627
CREATED:20250703T162339Z
LAST-MODIFIED:20250813T201722Z
UID:10000391-1780218000-1780233300@www.fcla.org
SUMMARY:Torah Social
DESCRIPTION:Kids: 9:15 AM- 1:00 PM; \nTTYA Girls: 9:45 AM- 1:00 PM; \nTTYA volunteers: 9:45 AM- 1:15 PM; \nVolunteer Shift 1- 9:00 AM- 11:15 am; \nVolunteer shift 2- 11:00 AM -1:15 pm
URL:https://www.fcla.org/event/torah-social-2509/2026-05-31/
END:VEVENT
END:VCALENDAR