BEGIN:VCALENDAR
VERSION:2.0
PRODID:-//Friendship Circle of Los Angeles - ECPv6.15.20//NONSGML v1.0//EN
CALSCALE:GREGORIAN
METHOD:PUBLISH
X-ORIGINAL-URL:https://www.fcla.org
X-WR-CALDESC:Events for Friendship Circle of Los Angeles
REFRESH-INTERVAL;VALUE=DURATION:PT1H
X-Robots-Tag:noindex
X-PUBLISHED-TTL:PT1H
BEGIN:VTIMEZONE
TZID:America/Los_Angeles
BEGIN:DAYLIGHT
TZOFFSETFROM:-0800
TZOFFSETTO:-0700
TZNAME:PDT
DTSTART:20250309T100000
END:DAYLIGHT
BEGIN:STANDARD
TZOFFSETFROM:-0700
TZOFFSETTO:-0800
TZNAME:PST
DTSTART:20251102T090000
END:STANDARD
BEGIN:DAYLIGHT
TZOFFSETFROM:-0800
TZOFFSETTO:-0700
TZNAME:PDT
DTSTART:20260308T100000
END:DAYLIGHT
BEGIN:STANDARD
TZOFFSETFROM:-0700
TZOFFSETTO:-0800
TZNAME:PST
DTSTART:20261101T090000
END:STANDARD
BEGIN:DAYLIGHT
TZOFFSETFROM:-0800
TZOFFSETTO:-0700
TZNAME:PDT
DTSTART:20270314T100000
END:DAYLIGHT
BEGIN:STANDARD
TZOFFSETFROM:-0700
TZOFFSETTO:-0800
TZNAME:PST
DTSTART:20271107T090000
END:STANDARD
END:VTIMEZONE
BEGIN:VEVENT
DTSTART;TZID=America/Los_Angeles:20260601T170000
DTEND;TZID=America/Los_Angeles:20260601T183000
DTSTAMP:20260421T100106
CREATED:20250703T162435Z
LAST-MODIFIED:20250813T200532Z
UID:10000253-1780333200-1780338600@www.fcla.org
SUMMARY:Girl's Scene
DESCRIPTION:
URL:https://www.fcla.org/event/girls-scene-2509/2026-06-01/
END:VEVENT
BEGIN:VEVENT
DTSTART;TZID=America/Los_Angeles:20260603T183000
DTEND;TZID=America/Los_Angeles:20260603T200000
DTSTAMP:20260421T100106
CREATED:20250113T170842Z
LAST-MODIFIED:20250813T201400Z
UID:10000854-1780511400-1780516800@www.fcla.org
SUMMARY:Kicks n' Hoops
DESCRIPTION:
URL:https://www.fcla.org/event/kicks-n-hoops/2026-06-03/
END:VEVENT
BEGIN:VEVENT
DTSTART;TZID=America/Los_Angeles:20260607T090000
DTEND;TZID=America/Los_Angeles:20260607T131500
DTSTAMP:20260421T100106
CREATED:20250703T162339Z
LAST-MODIFIED:20250813T201722Z
UID:10000392-1780822800-1780838100@www.fcla.org
SUMMARY:Torah Social
DESCRIPTION:Kids: 9:15 AM- 1:00 PM; \nTTYA Girls: 9:45 AM- 1:00 PM; \nTTYA volunteers: 9:45 AM- 1:15 PM; \nVolunteer Shift 1- 9:00 AM- 11:15 am; \nVolunteer shift 2- 11:00 AM -1:15 pm
URL:https://www.fcla.org/event/torah-social-2509/2026-06-07/
END:VEVENT
BEGIN:VEVENT
DTSTART;TZID=America/Los_Angeles:20260608T170000
DTEND;TZID=America/Los_Angeles:20260608T183000
DTSTAMP:20260421T100106
CREATED:20250703T162435Z
LAST-MODIFIED:20250813T200532Z
UID:10000254-1780938000-1780943400@www.fcla.org
SUMMARY:Girl's Scene
DESCRIPTION:
URL:https://www.fcla.org/event/girls-scene-2509/2026-06-08/
END:VEVENT
BEGIN:VEVENT
DTSTART;TZID=America/Los_Angeles:20260616T173000
DTEND;TZID=America/Los_Angeles:20260616T193000
DTSTAMP:20260421T100106
CREATED:20250520T201928Z
LAST-MODIFIED:20250717T165958Z
UID:10000811-1781631000-1781638200@www.fcla.org
SUMMARY:Let's Play
DESCRIPTION:
URL:https://www.fcla.org/event/lets-play-2050819/2026-06-16/
END:VEVENT
BEGIN:VEVENT
DTSTART;TZID=America/Los_Angeles:20260618T193000
DTEND;TZID=America/Los_Angeles:20260618T203000
DTSTAMP:20260421T100106
CREATED:20250520T202000Z
LAST-MODIFIED:20250813T195526Z
UID:10000845-1781811000-1781814600@www.fcla.org
SUMMARY:Volunteer Orientation
DESCRIPTION:
URL:https://www.fcla.org/event/volunteer-orientation-250821/2026-06-18/
END:VEVENT
END:VCALENDAR